BEGIN:VCALENDAR
VERSION:2.0
PRODID:icalendar-ruby
CALSCALE:GREGORIAN
METHOD:PUBLISH
BEGIN:VEVENT
DTSTAMP:20260424T174018Z
UID:14-1651165@stpaul-borchers.org
DTSTART:20250323T130000Z
DTEND:20250323T140000Z
CLASS:PUBLIC
CREATED:20260424T133305
DESCRIPTION:Sunday School
LAST-MODIFIED:20260424T133305
LOCATION:St. Paul Lutheran Church - Borchers
SUMMARY:Sunday School
URL;VALUE=URI:https://www.stpaul-borchers.org/events/sunday-school/2025-03-
 23
END:VEVENT
END:VCALENDAR
