BEGIN:VCALENDAR
VERSION:2.0
PRODID:icalendar-ruby
CALSCALE:GREGORIAN
METHOD:PUBLISH
BEGIN:VEVENT
DTSTAMP:20260424T225412Z
UID:14-1652133@stpaul-borchers.org
DTSTART:20250420T130000Z
DTEND:20250420T140000Z
CLASS:PUBLIC
CREATED:20260424T162011
DESCRIPTION:Sunday School
LAST-MODIFIED:20260424T162011
LOCATION:St. Paul Lutheran Church - Borchers
SUMMARY:Sunday School
URL;VALUE=URI:https://www.stpaul-borchers.org/events/sunday-school/2025-04-
 20
END:VEVENT
END:VCALENDAR
