BEGIN:VCALENDAR
VERSION:2.0
PRODID:icalendar-ruby
CALSCALE:GREGORIAN
METHOD:PUBLISH
BEGIN:VEVENT
DTSTAMP:20260425T002842Z
UID:14-1653098@stpaul-borchers.org
DTSTART:20250427T130000Z
DTEND:20250427T140000Z
CLASS:PUBLIC
CREATED:20260424T190754
DESCRIPTION:Sunday School
LAST-MODIFIED:20260424T190754
LOCATION:St. Paul Lutheran Church - Borchers
SUMMARY:Sunday School
URL;VALUE=URI:https://www.stpaul-borchers.org/events/sunday-school/2025-04-
 27
END:VEVENT
END:VCALENDAR
