BEGIN:VCALENDAR
VERSION:2.0
PRODID:icalendar-ruby
CALSCALE:GREGORIAN
METHOD:PUBLISH
BEGIN:VEVENT
DTSTAMP:20260420T193637Z
UID:13-1628936@stpaul-borchers.org
DTSTART:20260913T141500Z
DTEND:20260913T151500Z
CLASS:PUBLIC
CREATED:20260420T152204
DESCRIPTION:Sunday Worship
LAST-MODIFIED:20260420T152204
LOCATION:St. Paul Lutheran Church - Borchers
SUMMARY:Sunday Worship
URL;VALUE=URI:https://www.stpaul-borchers.org/events/sunday-worship--13/202
 6-09-13
END:VEVENT
END:VCALENDAR
