BEGIN:VCALENDAR
VERSION:2.0
PRODID:icalendar-ruby
CALSCALE:GREGORIAN
METHOD:PUBLISH
BEGIN:VEVENT
DTSTAMP:20260421T015837Z
UID:13-1630864@stpaul-borchers.org
DTSTART:20261011T141500Z
DTEND:20261011T151500Z
CLASS:PUBLIC
CREATED:20260420T203257
DESCRIPTION:Sunday Worship
LAST-MODIFIED:20260420T203257
LOCATION:St. Paul Lutheran Church - Borchers
SUMMARY:Sunday Worship
URL;VALUE=URI:https://www.stpaul-borchers.org/events/sunday-worship--13/202
 6-10-11
END:VEVENT
END:VCALENDAR
